BEGIN:VCALENDAR
VERSION:2.0
CALSCALE:GREGORIAN
PRODID:-//Diputació de Barcelona//DibaCMS//EN
BEGIN:VEVENT
UID:12087
DTSTAMP:20260422T002117
DTSTART:20251219T173000
DTEND:20251219T173000
SUMMARY:Festes nadalenques 2025 - Berenar de Nadal amb ball
LOCATION:Plaça Margarida, s/n. 08254 El Pont de Vilomara i Rocafort
METHOD:PUBLISH
X-WR-CALNAME:info.pont@elpont.cat
X-WR-TIMEZONE:Europe/Madrid
DESCRIPTION:Sorteig d'una panera.

URI:https://www.elpont.cat/actualitat/agenda/festes-nadalenques-2025-berenar-de-nadal-amb-ball.html
CLASS:PUBLIC
END:VEVENT
END:VCALENDAR
