BEGIN:VCALENDAR
VERSION:2.0
CALSCALE:GREGORIAN
PRODID:-//Diputació de Barcelona//DibaCMS//EN
BEGIN:VEVENT
UID:12088
DTSTAMP:20260422T004408
DTSTART:20251221T110000
DTEND:20251221T110000
SUMMARY:Festes nadalenques 2025 - Papanoelada motera
LOCATION:Passeig de la Pau, s/n 08254 El Pont de Vilomara i Rocafort
METHOD:PUBLISH
X-WR-CALNAME:info.pont@elpont.cat
X-WR-TIMEZONE:Europe/Madrid
DESCRIPTION:
URI:https://www.elpont.cat/actualitat/agenda/festes-nadalenques-2025-papanoelada-motera.html
CLASS:PUBLIC
END:VEVENT
END:VCALENDAR
