BEGIN:VCALENDAR
VERSION:2.0
CALSCALE:GREGORIAN
PRODID:-//Diputació de Barcelona//DibaCMS//EN
BEGIN:VEVENT
UID:12089
DTSTAMP:20260422T015241
DTSTART:20251224T183000
DTEND:20251224T203000
SUMMARY:Festes nadalenques 2025 - Pare Nadal
LOCATION:Al Bosquet. 
METHOD:PUBLISH
X-WR-CALNAME:info.pont@elpont.cat
X-WR-TIMEZONE:Europe/Madrid
DESCRIPTION:
URI:https://www.elpont.cat/actualitat/agenda/festes-nadalenques-2025-pare-nadal.html
CLASS:PUBLIC
END:VEVENT
END:VCALENDAR
