BEGIN:VCALENDAR
VERSION:2.0
CALSCALE:GREGORIAN
PRODID:-//Diputació de Barcelona//DibaCMS//EN
BEGIN:VEVENT
UID:12090
DTSTAMP:20260421T121836
DTSTART:20251225T003000
DTEND:20251225T003000
SUMMARY:Festes nadalenques 2025 - Ball de Nadal
LOCATION:Sant Pere Regalat, 18-28 08254 El Pont de Vilomara i Rocafort
METHOD:PUBLISH
X-WR-CALNAME:info.pont@elpont.cat
X-WR-TIMEZONE:Europe/Madrid
DESCRIPTION:
URI:https://www.elpont.cat/actualitat/agenda/festes-nadalenques-2025-ball-de-nadal.html
CLASS:PUBLIC
END:VEVENT
END:VCALENDAR
