BEGIN:VCALENDAR
VERSION:2.0
CALSCALE:GREGORIAN
PRODID:-//Diputació de Barcelona//DibaCMS//EN
BEGIN:VEVENT
UID:12092
DTSTAMP:20260421T204402
DTSTART:20251228T173000
DTEND:20251228T190000
SUMMARY:Festes nadalenques 2025 - Príncep Sasha
LOCATION:Plaça Major 08254 El Pont de Vilomara i Rocafort
METHOD:PUBLISH
X-WR-CALNAME:info.pont@elpont.cat
X-WR-TIMEZONE:Europe/Madrid
DESCRIPTION:
URI:https://www.elpont.cat/actualitat/agenda/festes-nadalenques-2025-princep-sasha.html
CLASS:PUBLIC
END:VEVENT
END:VCALENDAR
