BEGIN:VCALENDAR
VERSION:2.0
CALSCALE:GREGORIAN
PRODID:-//Diputació de Barcelona//DibaCMS//EN
BEGIN:VEVENT
UID:12097
DTSTAMP:20260421T230809
DTSTART:20260105T183000
DTEND:20260105T183000
SUMMARY:Festes nadalenques 2025 - Cavalgada dels Reis Mags
LOCATION:Sortida des del Pont Vell i recorregut pels carrers dels pobles. 
METHOD:PUBLISH
X-WR-CALNAME:info.pont@elpont.cat
X-WR-TIMEZONE:Europe/Madrid
DESCRIPTION:
URI:https://www.elpont.cat/actualitat/agenda/festes-nadalenques-2025-cavalgada-dels-reis-mags.html
CLASS:PUBLIC
END:VEVENT
END:VCALENDAR
