BEGIN:VCALENDAR
VERSION:2.0
CALSCALE:GREGORIAN
PRODID:-//Diputació de Barcelona//DibaCMS//EN
BEGIN:VEVENT
UID:12100
DTSTAMP:20260421T190546
DTSTART:20251224T210000
DTEND:20251224T210000
SUMMARY:Festes nadalenques 2025 - Missa del Gall a Rocafort
LOCATION:Carrer Major 08254 El Pont de Vilomara i Rocafort
METHOD:PUBLISH
X-WR-CALNAME:info.pont@elpont.cat
X-WR-TIMEZONE:Europe/Madrid
DESCRIPTION:
URI:https://www.elpont.cat/actualitat/agenda/festes-nadalenques-2025-missa-del-gall-a-rocafort.html
CLASS:PUBLIC
END:VEVENT
END:VCALENDAR
