BEGIN:VCALENDAR
VERSION:2.0
CALSCALE:GREGORIAN
PRODID:-//Diputació de Barcelona//DibaCMS//EN
BEGIN:VEVENT
UID:12101
DTSTAMP:20260422T002255
DTSTART:20251225T090000
DTEND:20251225T090000
SUMMARY:Festes nadalenques 2025 - Missa de Nadal
LOCATION:Plaça Major, s/n 08254 El Pont de Vilomara i Rocafort
METHOD:PUBLISH
X-WR-CALNAME:info.pont@elpont.cat
X-WR-TIMEZONE:Europe/Madrid
DESCRIPTION:
URI:https://www.elpont.cat/actualitat/agenda/festes-nadalenques-2025-missa-de-nadal.html
CLASS:PUBLIC
END:VEVENT
END:VCALENDAR
