BEGIN:VCALENDAR
VERSION:2.0
CALSCALE:GREGORIAN
PRODID:-//Diputació de Barcelona//DibaCMS//EN
BEGIN:VEVENT
UID:12109
DTSTAMP:20260421T143007
DTSTART:20251230T090000
DTEND:20251230T130000
SUMMARY:Festes nadalenques 2025 - Campus de Nadal subvencionat - Dia 5
LOCATION:Sant Pere Regalat, 18-28 08254 El Pont de Vilomara i Rocafort
METHOD:PUBLISH
X-WR-CALNAME:info.pont@elpont.cat
X-WR-TIMEZONE:Europe/Madrid
DESCRIPTION:
URI:https://www.elpont.cat/actualitat/agenda/festes-nadalenques-2025-campus-de-nadal-subvencionat-dia-5.html
CLASS:PUBLIC
END:VEVENT
END:VCALENDAR
