BEGIN:VCALENDAR
VERSION:2.0
CALSCALE:GREGORIAN
PRODID:-//Diputació de Barcelona//DibaCMS//EN
BEGIN:VEVENT
UID:12113
DTSTAMP:20260421T230152
DTSTART:20251215T000000
DTEND:20260115T200000
SUMMARY:Matrícula gratuïta a la Sala Polivalent
LOCATION:Sant Jeroni, 12-14  08254 El Pont de Vilomara i Rocafort
METHOD:PUBLISH
X-WR-CALNAME:info.pont@elpont.cat
X-WR-TIMEZONE:Europe/Madrid
DESCRIPTION:Entre el 15 de desembre de 2025 i el 15 de gener de 2026, no tens excusa per no apuntar-te al gimnàs.

URI:https://www.elpont.cat/actualitat/agenda/12113-matricula-gratuita-a-la-sala-polivalent.html
CLASS:PUBLIC
END:VEVENT
END:VCALENDAR
