BEGIN:VCALENDAR
VERSION:2.0
CALSCALE:GREGORIAN
PRODID:-//Diputació de Barcelona//DibaCMS//EN
BEGIN:VEVENT
UID:12114
DTSTAMP:20260421T215619
DTSTART:20251221T093000
DTEND:20251221T093000
SUMMARY:Gran Festa del Centenari del CF Vilomara
LOCATION:Manresa, s/n El Pont de Vilomara i Rocafort
METHOD:PUBLISH
X-WR-CALNAME:info.pont@elpont.cat
X-WR-TIMEZONE:Europe/Madrid
DESCRIPTION:Torneig de futbol de jugadors i exjugadors del CF VIlomara.

URI:https://www.elpont.cat/actualitat/agenda/gran-festa-del-centenari-del-cf-vilomara.html
CLASS:PUBLIC
END:VEVENT
END:VCALENDAR
