BEGIN:VCALENDAR
VERSION:2.0
CALSCALE:GREGORIAN
PRODID:-//Diputació de Barcelona//DibaCMS//EN
BEGIN:VEVENT
UID:12122
DTSTAMP:20260421T143340
DTSTART:20260124T110000
DTEND:20260124T110000
SUMMARY:Activitats Biblioteca gener 2026 - Taller "Alquimistes del gust: la vinya com a laboratori culinari"
LOCATION:Sant Pere Regalat, 72, baixos 08254 El Pont de Vilomara i Rocafort
METHOD:PUBLISH
X-WR-CALNAME:info.pont@elpont.cat
X-WR-TIMEZONE:Europe/Madrid
DESCRIPTION:Taller on els participants es converteixen en alquimistes de la cuina i descobreixen el món del raïm i els seus derivats a través d’experiments culinaris que combinen ciència i creativitat. Taller amb rigor científic, jocs i un ambient teatralitzat que el converteix en una experiència memorable.

URI:https://www.elpont.cat/actualitat/agenda/activitats-biblioteca-gener-2026-taller-alquimistes-del-gust-la-vinya-com-a-laboratori-culinari.html
CLASS:PUBLIC
END:VEVENT
END:VCALENDAR
