BEGIN:VCALENDAR
VERSION:2.0
CALSCALE:GREGORIAN
PRODID:-//Diputació de Barcelona//DibaCMS//EN
BEGIN:VEVENT
UID:12124
DTSTAMP:20260426T025000
DTSTART:20260131T100000
DTEND:20260131T100000
SUMMARY:Activitats Biblioteca gener 2026 - Visita al Celler Solergibert (Artés)
LOCATION:Sant Pere Regalat, 72, baixos 08254 El Pont de Vilomara i Rocafort
METHOD:PUBLISH
X-WR-CALNAME:info.pont@elpont.cat
X-WR-TIMEZONE:Europe/Madrid
DESCRIPTION:Trobada del club de lectura per a parlar de la novel·la "Todo esto te daré" de l'escriptora Dolores Redondo.

URI:https://www.elpont.cat/actualitat/agenda/activitats-biblioteca-gener-2026-visita-al-celler-solergibert-artes.html
CLASS:PUBLIC
END:VEVENT
END:VCALENDAR
