BEGIN:VCALENDAR
VERSION:2.0
CALSCALE:GREGORIAN
PRODID:-//Diputació de Barcelona//DibaCMS//EN
BEGIN:VEVENT
UID:12127
DTSTAMP:20260426T014039
DTSTART:20260120T200000
DTEND:20260120T200000
SUMMARY:Ple de 20 de gener de 2026 - Ordinari
LOCATION:Plaça de l'Ajuntament, 1 08254 El Pont de Vilomara i Rocafort
METHOD:PUBLISH
X-WR-CALNAME:info.pont@elpont.cat
X-WR-TIMEZONE:Europe/Madrid
DESCRIPTION:
URI:https://www.elpont.cat/actualitat/agenda/12127-ple-de-20-de-gener-de-2026-ordinari.html
CLASS:PUBLIC
END:VEVENT
END:VCALENDAR
