BEGIN:VCALENDAR
VERSION:2.0
CALSCALE:GREGORIAN
PRODID:-//Diputació de Barcelona//DibaCMS//EN
BEGIN:VEVENT
UID:12132
DTSTAMP:20260422T020912
DTSTART:20260207T110000
DTEND:20260207T110000
SUMMARY:Activitats Biblioteca febrer 2026 - Taller de Carnestoltes "Ferides de pel·lícula"
LOCATION:Sant Pere Regalat, 72, baixos 08254 El Pont de Vilomara i Rocafort
METHOD:PUBLISH
X-WR-CALNAME:info.pont@elpont.cat
X-WR-TIMEZONE:Europe/Madrid
DESCRIPTION:Taller per acostar-se al món de la química bàsica i crear maquillatges realistes amb ingredients a l'abast de tothom i "sang" falsa.

Farem unes ferides terrorífiques !!

URI:https://www.elpont.cat/actualitat/agenda/activitats-biblioteca-febrer-2026-taller-de-carnestoltes-ferides-de-pellicula.html
CLASS:PUBLIC
END:VEVENT
END:VCALENDAR
