BEGIN:VCALENDAR
VERSION:2.0
CALSCALE:GREGORIAN
PRODID:-//Diputació de Barcelona//DibaCMS//EN
BEGIN:VEVENT
UID:12133
DTSTAMP:20260421T233232
DTSTART:20260211T170000
DTEND:20260211T170000
SUMMARY:Activitats Biblioteca febrer 2026 - Debat al Punt "Com els rics saquegen el planeta:  i com impedir-ho"
LOCATION:Sant Pere Regalat, 72, baixos 08254 El Pont de Vilomara i Rocafort
METHOD:PUBLISH
X-WR-CALNAME:info.pont@elpont.cat
X-WR-TIMEZONE:Europe/Madrid
DESCRIPTION:Nova trobada del grup de joves per parlar del còmic del periodista mediambiental Hervé Kempf.

URI:https://www.elpont.cat/actualitat/agenda/activitats-biblioteca-febrer-2026-debat-al-punt-com-els-rics-saquegen-el-planeta-i-com-impedir-ho.html
CLASS:PUBLIC
END:VEVENT
END:VCALENDAR
