BEGIN:VCALENDAR
VERSION:2.0
CALSCALE:GREGORIAN
PRODID:-//Diputació de Barcelona//DibaCMS//EN
BEGIN:VEVENT
UID:12134
DTSTAMP:20260421T161151
DTSTART:20260218T150000
DTEND:20260218T150000
SUMMARY:Activitats Biblioteca febrer 2026 - Taller "Xampús sòlids"
LOCATION:Sant Pere Regalat, 72, baixos 08254 El Pont de Vilomara i Rocafort
METHOD:PUBLISH
X-WR-CALNAME:info.pont@elpont.cat
X-WR-TIMEZONE:Europe/Madrid
DESCRIPTION:Aprèn a crear el teu propi xampú sòlid des de zero, descobreix els ingredients clau per adaptar el xampú al teu tipus de cabell i les fórmules efectives per cuidar-te de manera natural.

URI:https://www.elpont.cat/actualitat/agenda/activitats-biblioteca-febrer-2026-taller-xampus-solids.html
CLASS:PUBLIC
END:VEVENT
END:VCALENDAR
