BEGIN:VCALENDAR
VERSION:2.0
CALSCALE:GREGORIAN
PRODID:-//Diputació de Barcelona//DibaCMS//EN
BEGIN:VEVENT
UID:12165
DTSTAMP:20260421T173817
DTSTART:20260320T150000
DTEND:20260320T150000
SUMMARY:Dia Internacional de la Dona 2026 - Tertúlia literària "Vincles, afectes i grillons"
LOCATION:Sant Pere Regalat, 72, baixos 08254 El Pont de Vilomara i Rocafort
METHOD:PUBLISH
X-WR-CALNAME:info.pont@elpont.cat
X-WR-TIMEZONE:Europe/Madrid
DESCRIPTION:Trobada del club de lectura per a parlar de la novel·la "Vincles, afectes i grillons" amb l'escriptora Jèssica del Moral.

La sessió, oberta a tothom, serà conduïda per la periodista local Alba Rodríguez.

Podeu passar per la biblioteca a buscar un exemplar de lectura.

URI:https://www.elpont.cat/actualitat/agenda/dia-internacional-de-la-dona-2026-tertulia-literaria-vincles-afectes-i-grillons.html
CLASS:PUBLIC
END:VEVENT
END:VCALENDAR
