BEGIN:VCALENDAR
VERSION:2.0
CALSCALE:GREGORIAN
PRODID:-//Diputació de Barcelona//DibaCMS//EN
BEGIN:VEVENT
UID:12167
DTSTAMP:20260421T162152
DTSTART:20260327T180000
DTEND:20260327T180000
SUMMARY:Dia Internacional de la Dona 2026 - Sopar de la Dona
LOCATION:Sant Pere Regalat, 18-28 08254 El Pont de Vilomara i Rocafort
METHOD:PUBLISH
X-WR-CALNAME:info.pont@elpont.cat
X-WR-TIMEZONE:Europe/Madrid
DESCRIPTION:Sopar, bingo musical i Dj.

URI:https://www.elpont.cat/actualitat/agenda/dia-internacional-de-la-dona-2026-sopar-de-la-dona.html
CLASS:PUBLIC
END:VEVENT
END:VCALENDAR
