BEGIN:VCALENDAR
VERSION:2.0
CALSCALE:GREGORIAN
PRODID:-//Diputació de Barcelona//DibaCMS//EN
BEGIN:VEVENT
UID:1342
DTSTAMP:20260423T002121
DTSTART:20181017T180000
DTEND:20181017T200000
SUMMARY:Ball de prova
LOCATION:
METHOD:PUBLISH
X-WR-CALNAME:info.pont@elpont.cat
X-WR-TIMEZONE:Europe/Madrid
DESCRIPTION:prova

URI:https://www.elpont.cat/actualitat/agenda/ball-de-prova.html
CLASS:PUBLIC
END:VEVENT
END:VCALENDAR
