BEGIN:VCALENDAR
VERSION:2.0
CALSCALE:GREGORIAN
PRODID:-//Diputació de Barcelona//DibaCMS//EN
BEGIN:VEVENT
UID:2100
DTSTAMP:20260420T114645
DTSTART:20151017T000000
DTEND:20151017T000000
SUMMARY:L'HORA DEL CONTE - EL CAU DE LES CARÍCIES
LOCATION:
METHOD:PUBLISH
X-WR-CALNAME:info.pont@elpont.cat
X-WR-TIMEZONE:Europe/Madrid
DESCRIPTION:
URI:https://www.elpont.cat/actualitat/agenda/2100-lhora-del-conte-el-cau-de-les-caricies.html
CLASS:PUBLIC
END:VEVENT
END:VCALENDAR
