BEGIN:VCALENDAR
VERSION:2.0
CALSCALE:GREGORIAN
PRODID:-//Diputació de Barcelona//DibaCMS//EN
BEGIN:VEVENT
UID:2131
DTSTAMP:20260421T161622
DTSTART:20151213T000000
DTEND:20151213T000000
SUMMARY:MARATÓ DE TV3: BALLADA DE SARDANES
LOCATION:
METHOD:PUBLISH
X-WR-CALNAME:info.pont@elpont.cat
X-WR-TIMEZONE:Europe/Madrid
DESCRIPTION:
URI:https://www.elpont.cat/actualitat/agenda/marato-de-tv3-ballada-de-sardanes.html
CLASS:PUBLIC
END:VEVENT
END:VCALENDAR
