BEGIN:VCALENDAR
VERSION:2.0
CALSCALE:GREGORIAN
PRODID:-//Diputació de Barcelona//DibaCMS//EN
BEGIN:VEVENT
UID:2255
DTSTAMP:20260422T052909
DTSTART:20160717T000000
DTEND:20160717T000000
SUMMARY:FESTA MAJOR INFANTIL - II GIMKANA INFANTIL
LOCATION:
METHOD:PUBLISH
X-WR-CALNAME:info.pont@elpont.cat
X-WR-TIMEZONE:Europe/Madrid
DESCRIPTION:
URI:https://www.elpont.cat/actualitat/agenda/festa-major-infantil-ii-gimkana-infantil.html
CLASS:PUBLIC
END:VEVENT
END:VCALENDAR
