BEGIN:VCALENDAR
VERSION:2.0
CALSCALE:GREGORIAN
PRODID:-//Diputació de Barcelona//DibaCMS//EN
BEGIN:VEVENT
UID:2269
DTSTAMP:20260421T203007
DTSTART:20160723T000000
DTEND:20160723T000000
SUMMARY:FESTA MAJOR - BALL DISCO PER A JOVES AMB DJ'S LOCALS
LOCATION:
METHOD:PUBLISH
X-WR-CALNAME:info.pont@elpont.cat
X-WR-TIMEZONE:Europe/Madrid
DESCRIPTION:
URI:https://www.elpont.cat/actualitat/agenda/festa-major-ball-disco-per-a-joves-amb-djs-locals.html
CLASS:PUBLIC
END:VEVENT
END:VCALENDAR
