BEGIN:VCALENDAR
VERSION:2.0
CALSCALE:GREGORIAN
PRODID:-//Diputació de Barcelona//DibaCMS//EN
BEGIN:VEVENT
UID:2278
DTSTAMP:20260421T202706
DTSTART:20160724T000000
DTEND:20160724T000000
SUMMARY:FESTA MAJOR - LLIURAMENT DE PREMIS DEL XXIII CONCURS DE DIBUIX
LOCATION:
METHOD:PUBLISH
X-WR-CALNAME:info.pont@elpont.cat
X-WR-TIMEZONE:Europe/Madrid
DESCRIPTION:
URI:https://www.elpont.cat/actualitat/agenda/festa-major-lliurament-de-premis-del-xxiii-concurs-de-dibuix.html
CLASS:PUBLIC
END:VEVENT
END:VCALENDAR
