BEGIN:VCALENDAR
VERSION:2.0
CALSCALE:GREGORIAN
PRODID:-//Diputació de Barcelona//DibaCMS//EN
BEGIN:VEVENT
UID:2282
DTSTAMP:20260421T144002
DTSTART:20160724T000000
DTEND:20160724T000000
SUMMARY:FESTA MAJOR - EXPOSICIÓ DE PINTURA
LOCATION:
METHOD:PUBLISH
X-WR-CALNAME:info.pont@elpont.cat
X-WR-TIMEZONE:Europe/Madrid
DESCRIPTION:
URI:https://www.elpont.cat/actualitat/agenda/2282-festa-major-exposicio-de-pintura.html
CLASS:PUBLIC
END:VEVENT
END:VCALENDAR
