BEGIN:VCALENDAR
VERSION:2.0
CALSCALE:GREGORIAN
PRODID:-//Diputació de Barcelona//DibaCMS//EN
BEGIN:VEVENT
UID:2283
DTSTAMP:20260421T190738
DTSTART:20160724T000000
DTEND:20160724T000000
SUMMARY:FESTA MAJOR - XIII TROBADA DE PUNTAIRES
LOCATION:
METHOD:PUBLISH
X-WR-CALNAME:info.pont@elpont.cat
X-WR-TIMEZONE:Europe/Madrid
DESCRIPTION:
URI:https://www.elpont.cat/actualitat/agenda/festa-major-xiii-trobada-de-puntaires.html
CLASS:PUBLIC
END:VEVENT
END:VCALENDAR
