BEGIN:VCALENDAR
VERSION:2.0
CALSCALE:GREGORIAN
PRODID:-//Diputació de Barcelona//DibaCMS//EN
BEGIN:VEVENT
UID:2286
DTSTAMP:20260421T190256
DTSTART:20160724T000000
DTEND:20160724T000000
SUMMARY:FESTA MAJOR - CERCAVILA AMB ELS GEGANTS
LOCATION:
METHOD:PUBLISH
X-WR-CALNAME:info.pont@elpont.cat
X-WR-TIMEZONE:Europe/Madrid
DESCRIPTION:Amb els Gegants i Grallers del Grup d'Infància i Joventut.
URI:https://www.elpont.cat/actualitat/agenda/festa-major-cercavila-amb-els-gegants.html
CLASS:PUBLIC
END:VEVENT
END:VCALENDAR
