BEGIN:VCALENDAR
VERSION:2.0
CALSCALE:GREGORIAN
PRODID:-//Diputació de Barcelona//DibaCMS//EN
BEGIN:VEVENT
UID:2289
DTSTAMP:20260421T143022
DTSTART:20160725T000000
DTEND:20160725T000000
SUMMARY:FESTA MAJOR - EXPOSICIÓ DE PINTURA DE PINTORS LOCALS
LOCATION:
METHOD:PUBLISH
X-WR-CALNAME:info.pont@elpont.cat
X-WR-TIMEZONE:Europe/Madrid
DESCRIPTION:
URI:https://www.elpont.cat/actualitat/agenda/festa-major-exposicio-de-pintura-de-pintors-locals.html
CLASS:PUBLIC
END:VEVENT
END:VCALENDAR
