BEGIN:VCALENDAR
VERSION:2.0
CALSCALE:GREGORIAN
PRODID:-//Diputació de Barcelona//DibaCMS//EN
BEGIN:VEVENT
UID:2290
DTSTAMP:20260421T204013
DTSTART:20160725T000000
DTEND:20160725T000000
SUMMARY:FESTA MAJOR - PARC AQUÀTIC A LA PISCINA MUNICIPAL
LOCATION:
METHOD:PUBLISH
X-WR-CALNAME:info.pont@elpont.cat
X-WR-TIMEZONE:Europe/Madrid
DESCRIPTION:
URI:https://www.elpont.cat/actualitat/agenda/festa-major-parc-aquatic-a-la-piscina-municipal.html
CLASS:PUBLIC
END:VEVENT
END:VCALENDAR
