BEGIN:VCALENDAR
VERSION:2.0
CALSCALE:GREGORIAN
PRODID:-//Diputació de Barcelona//DibaCMS//EN
BEGIN:VEVENT
UID:2291
DTSTAMP:20260422T075715
DTSTART:20160725T000000
DTEND:20160725T000000
SUMMARY:FESTA MAJOR - HAVANERES
LOCATION:
METHOD:PUBLISH
X-WR-CALNAME:info.pont@elpont.cat
X-WR-TIMEZONE:Europe/Madrid
DESCRIPTION:Actuació del grup Port - Bo.
 
Degustació de rom ofert per l'Associació de Pescadors del Pont de Vilomara i Rocafort
URI:https://www.elpont.cat/actualitat/agenda/festa-major-havaneres.html
CLASS:PUBLIC
END:VEVENT
END:VCALENDAR
