BEGIN:VCALENDAR
VERSION:2.0
CALSCALE:GREGORIAN
PRODID:-//Diputació de Barcelona//DibaCMS//EN
BEGIN:VEVENT
UID:2306
DTSTAMP:20260421T103310
DTSTART:20160814T000000
DTEND:20160814T000000
SUMMARY:FESTA MAJOR DE ROCAFORT - BALL DE FESTA MAJOR
LOCATION:
METHOD:PUBLISH
X-WR-CALNAME:info.pont@elpont.cat
X-WR-TIMEZONE:Europe/Madrid
DESCRIPTION:Amb la Ban'd'Festa
URI:https://www.elpont.cat/actualitat/agenda/2306-festa-major-de-rocafort-ball-de-festa-major.html
CLASS:PUBLIC
END:VEVENT
END:VCALENDAR
