BEGIN:VCALENDAR
VERSION:2.0
CALSCALE:GREGORIAN
PRODID:-//Diputació de Barcelona//DibaCMS//EN
BEGIN:VEVENT
UID:2326
DTSTAMP:20260421T115530
DTSTART:20160904T000000
DTEND:20160904T000000
SUMMARY:TANCAMENT DE LA PISCINA MUNICIPAL
LOCATION:
METHOD:PUBLISH
X-WR-CALNAME:info.pont@elpont.cat
X-WR-TIMEZONE:Europe/Madrid
DESCRIPTION:
URI:https://www.elpont.cat/actualitat/agenda/tancament-de-la-piscina-municipal.html
CLASS:PUBLIC
END:VEVENT
END:VCALENDAR
