BEGIN:VCALENDAR
VERSION:2.0
CALSCALE:GREGORIAN
PRODID:-//Diputació de Barcelona//DibaCMS//EN
BEGIN:VEVENT
UID:2329
DTSTAMP:20260421T215634
DTSTART:20160904T000000
DTEND:20160904T000000
SUMMARY:FESTA MAJOR MARQUET PARADÍS - GRAN BALL D'ESCUMA
LOCATION:
METHOD:PUBLISH
X-WR-CALNAME:info.pont@elpont.cat
X-WR-TIMEZONE:Europe/Madrid
DESCRIPTION:Amb música, escuma de colors i moltes sorpreses.
URI:https://www.elpont.cat/actualitat/agenda/festa-major-marquet-paradis-gran-ball-descuma.html
CLASS:PUBLIC
END:VEVENT
END:VCALENDAR
