BEGIN:VCALENDAR
VERSION:2.0
CALSCALE:GREGORIAN
PRODID:-//Diputació de Barcelona//DibaCMS//EN
BEGIN:VEVENT
UID:2330
DTSTAMP:20260422T030437
DTSTART:20160904T000000
DTEND:20160904T000000
SUMMARY:FESTA MAJOR MARQUET PARADÍS - MISSA DE FESTA MAJOR
LOCATION:
METHOD:PUBLISH
X-WR-CALNAME:info.pont@elpont.cat
X-WR-TIMEZONE:Europe/Madrid
DESCRIPTION:Oficiada pel Mossèn del Pont de Vilomara i Rocafort.
 
Seguidament hi haurà un petit refrigeri al mateix lloc.
 
Tothom que vulgui podrà portar el seu dinar per mejar tots junts
URI:https://www.elpont.cat/actualitat/agenda/festa-major-marquet-paradis-missa-de-festa-major.html
CLASS:PUBLIC
END:VEVENT
END:VCALENDAR
