BEGIN:VCALENDAR
VERSION:2.0
CALSCALE:GREGORIAN
PRODID:-//Diputació de Barcelona//DibaCMS//EN
BEGIN:VEVENT
UID:2331
DTSTAMP:20260421T210604
DTSTART:20160912T000000
DTEND:20161003T000000
SUMMARY:HOMENATGE A LA GENT GRAN - EXPOSICIÓ DE CONSTRUCCIONS EN MINIATURA I PINTURES
LOCATION:
METHOD:PUBLISH
X-WR-CALNAME:info.pont@elpont.cat
X-WR-TIMEZONE:Europe/Madrid
DESCRIPTION:Exposició de construccions en miniatura de Clemencio Urango i de pintures d'Heribert Soriano.
URI:https://www.elpont.cat/actualitat/agenda/homenatge-a-la-gent-gran-exposicio-de-construccions-en-miniatura-i-pintures.html
CLASS:PUBLIC
END:VEVENT
END:VCALENDAR
