BEGIN:VCALENDAR
VERSION:2.0
CALSCALE:GREGORIAN
PRODID:-//Diputació de Barcelona//DibaCMS//EN
BEGIN:VEVENT
UID:2332
DTSTAMP:20260422T030902
DTSTART:20160916T000000
DTEND:20160916T000000
SUMMARY:CAP DE SETMANA DE LA JOVENTUT - MALGYMCANA NOCTURNA
LOCATION:
METHOD:PUBLISH
X-WR-CALNAME:info.pont@elpont.cat
X-WR-TIMEZONE:Europe/Madrid
DESCRIPTION:Els equips seran de, com a mínim, 5 persones.
 
Els menors de 16 anys hauran d'anar acompanyats d'un adult i amb l'autorització del pare/mare o tutor legal.
URI:https://www.elpont.cat/actualitat/agenda/cap-de-setmana-de-la-joventut-malgymcana-nocturna.html
CLASS:PUBLIC
END:VEVENT
END:VCALENDAR
