BEGIN:VCALENDAR
VERSION:2.0
CALSCALE:GREGORIAN
PRODID:-//Diputació de Barcelona//DibaCMS//EN
BEGIN:VEVENT
UID:2333
DTSTAMP:20260422T043456
DTSTART:20160917T000000
DTEND:20160917T000000
SUMMARY:CAP DE SETMANA DE LA JOVENTUT - BALL PER A JOVES
LOCATION:
METHOD:PUBLISH
X-WR-CALNAME:info.pont@elpont.cat
X-WR-TIMEZONE:Europe/Madrid
DESCRIPTION:Amb DJ's locals
URI:https://www.elpont.cat/actualitat/agenda/cap-de-setmana-de-la-joventut-ball-per-a-joves.html
CLASS:PUBLIC
END:VEVENT
END:VCALENDAR
