BEGIN:VCALENDAR
VERSION:2.0
CALSCALE:GREGORIAN
PRODID:-//Diputació de Barcelona//DibaCMS//EN
BEGIN:VEVENT
UID:2335
DTSTAMP:20260421T115441
DTSTART:20160917T000000
DTEND:20160917T000000
SUMMARY:CAP DE SETMANA DE LA JOVENTUT - TALLER &quot;APRENEM A FER BONES FOTOGRAFIES AMB EL MÒBIL&quot;
LOCATION:
METHOD:PUBLISH
X-WR-CALNAME:info.pont@elpont.cat
X-WR-TIMEZONE:Europe/Madrid
DESCRIPTION:A partir de 14 anys.
 
El taller anirà a càrrec de Nil Martín Lanza
URI:https://www.elpont.cat/actualitat/agenda/cap-de-setmana-de-la-joventut-taller-andquotaprenem-a-fer-bones-fotografies-amb-el-mobilandquot.html
CLASS:PUBLIC
END:VEVENT
END:VCALENDAR
