BEGIN:VCALENDAR
VERSION:2.0
CALSCALE:GREGORIAN
PRODID:-//Diputació de Barcelona//DibaCMS//EN
BEGIN:VEVENT
UID:2336
DTSTAMP:20260421T173633
DTSTART:20160918T000000
DTEND:20160918T000000
SUMMARY:CAP DE SETMANA DE LA JOVENTUT - FINAL DEL XXV OPEN DE TENNIS MASCULÍ
LOCATION:
METHOD:PUBLISH
X-WR-CALNAME:info.pont@elpont.cat
X-WR-TIMEZONE:Europe/Madrid
DESCRIPTION:
URI:https://www.elpont.cat/actualitat/agenda/cap-de-setmana-de-la-joventut-final-del-xxv-open-de-tennis-masculi.html
CLASS:PUBLIC
END:VEVENT
END:VCALENDAR
