BEGIN:VCALENDAR
VERSION:2.0
CALSCALE:GREGORIAN
PRODID:-//Diputació de Barcelona//DibaCMS//EN
BEGIN:VEVENT
UID:2337
DTSTAMP:20260421T204328
DTSTART:20160918T000000
DTEND:20160918T000000
SUMMARY:CAP DE SETMANA DE LA JOVENTUT - GALA BENÈFICA &quot;LUCHEMOS CON ÁLVARO&quot;
LOCATION:
METHOD:PUBLISH
X-WR-CALNAME:info.pont@elpont.cat
X-WR-TIMEZONE:Europe/Madrid
DESCRIPTION:En favor d'un nen de 5 anys de Barberà del Vallès que pateix una malatia considerada rara.
 
Hi hauran diferents actuacions durant la gala.
URI:https://www.elpont.cat/actualitat/agenda/cap-de-setmana-de-la-joventut-gala-benefica-andquotluchemos-con-alvaroandquot.html
CLASS:PUBLIC
END:VEVENT
END:VCALENDAR
