BEGIN:VCALENDAR
VERSION:2.0
CALSCALE:GREGORIAN
PRODID:-//Diputació de Barcelona//DibaCMS//EN
BEGIN:VEVENT
UID:2339
DTSTAMP:20260421T203017
DTSTART:20160919T000000
DTEND:20160930T000000
SUMMARY:EL MOSQUIT TIGRE, UN VEÍ QUE ENS INCOMODA
LOCATION:
METHOD:PUBLISH
X-WR-CALNAME:info.pont@elpont.cat
X-WR-TIMEZONE:Europe/Madrid
DESCRIPTION:
URI:https://www.elpont.cat/actualitat/agenda/2339-el-mosquit-tigre-un-vei-que-ens-incomoda.html
CLASS:PUBLIC
END:VEVENT
END:VCALENDAR
