BEGIN:VCALENDAR
VERSION:2.0
CALSCALE:GREGORIAN
PRODID:-//Diputació de Barcelona//DibaCMS//EN
BEGIN:VEVENT
UID:2340
DTSTAMP:20260421T144505
DTSTART:20160920T000000
DTEND:20160920T000000
SUMMARY:HOMENATGE A LA GENT GRAN - PROJECCIÓ DE FOTOGRAFIES ANTIGUES DEL PONT DE VILOMARA I ROCAFORT
LOCATION:
METHOD:PUBLISH
X-WR-CALNAME:info.pont@elpont.cat
X-WR-TIMEZONE:Europe/Madrid
DESCRIPTION:Reviu la història del nostre poble a través de les imatges.
URI:https://www.elpont.cat/actualitat/agenda/homenatge-a-la-gent-gran-projeccio-de-fotografies-antigues-del-pont-de-vilomara-i-rocafort.html
CLASS:PUBLIC
END:VEVENT
END:VCALENDAR
