BEGIN:VCALENDAR
VERSION:2.0
CALSCALE:GREGORIAN
PRODID:-//Diputació de Barcelona//DibaCMS//EN
BEGIN:VEVENT
UID:2341
DTSTAMP:20260421T173542
DTSTART:20160925T000000
DTEND:20160925T000000
SUMMARY:HOMENATGE A LA GENT GRAN - CERCAVILA DELS GEGANTS I GRALLERS
LOCATION:
METHOD:PUBLISH
X-WR-CALNAME:info.pont@elpont.cat
X-WR-TIMEZONE:Europe/Madrid
DESCRIPTION:Amb el Grup d'Infància i Joventut
URI:https://www.elpont.cat/actualitat/agenda/homenatge-a-la-gent-gran-cercavila-dels-gegants-i-grallers.html
CLASS:PUBLIC
END:VEVENT
END:VCALENDAR
