BEGIN:VCALENDAR
VERSION:2.0
CALSCALE:GREGORIAN
PRODID:-//Diputació de Barcelona//DibaCMS//EN
BEGIN:VEVENT
UID:2342
DTSTAMP:20260421T144434
DTSTART:20160925T000000
DTEND:20160925T000000
SUMMARY:HOMENATGE A LA GENT GRAN
LOCATION:
METHOD:PUBLISH
X-WR-CALNAME:info.pont@elpont.cat
X-WR-TIMEZONE:Europe/Madrid
DESCRIPTION:Espectacle “Cançons de la nostra vida” a càrrec de “Els Atrevits” i presentació artística de les Estrelles del Pont
 
Entrega d’un obsequi a tots els homenatjats.
 
Entrega d’un diploma a les persones que compleixen 85 anys durant el 2016.
 
Entrega d’un regal sorpresa als avis de més edat:
 

CANDELARIA LOZANO FIGUEROLA
14/04/1918

LLUIS CAMPRUBÍ SERRA 
13/01/1919

JUAN ROMERO ALCARAZ 
26/07/1919

MARIA LOPEZ GAZQUEZ
25/06/1920

URI:https://www.elpont.cat/actualitat/agenda/2342-homenatge-a-la-gent-gran.html
CLASS:PUBLIC
END:VEVENT
END:VCALENDAR
