BEGIN:VCALENDAR
VERSION:2.0
CALSCALE:GREGORIAN
PRODID:-//Diputació de Barcelona//DibaCMS//EN
BEGIN:VEVENT
UID:2343
DTSTAMP:20260421T142904
DTSTART:20160925T000000
DTEND:20160925T000000
SUMMARY:HOMENATGE A LA GENT GRAN - MISSA SOLEMNE (en acció de gràcies)
LOCATION:
METHOD:PUBLISH
X-WR-CALNAME:info.pont@elpont.cat
X-WR-TIMEZONE:Europe/Madrid
DESCRIPTION:Música a càrrec del Cor Parroquial "Santa Maria Magdalena" amb cnat dels goigs.
 
S'obsequiarà a la Gent Gran amb un ram de flors.
URI:https://www.elpont.cat/actualitat/agenda/homenatge-a-la-gent-gran-missa-solemne-en-accio-de-gracies.html
CLASS:PUBLIC
END:VEVENT
END:VCALENDAR
