BEGIN:VCALENDAR
VERSION:2.0
CALSCALE:GREGORIAN
PRODID:-//Diputació de Barcelona//DibaCMS//EN
BEGIN:VEVENT
UID:2345
DTSTAMP:20260421T192912
DTSTART:20160925T000000
DTEND:20160925T000000
SUMMARY:HOMENATGE A LA GENT GRAN - ACTUACIÓ DE LES MAJORETTES DEL GRUP ARLEQUÍ
LOCATION:
METHOD:PUBLISH
X-WR-CALNAME:info.pont@elpont.cat
X-WR-TIMEZONE:Europe/Madrid
DESCRIPTION:
URI:https://www.elpont.cat/actualitat/agenda/homenatge-a-la-gent-gran-actuacio-de-les-majorettes-del-grup-arlequi.html
CLASS:PUBLIC
END:VEVENT
END:VCALENDAR
