BEGIN:VCALENDAR
VERSION:2.0
CALSCALE:GREGORIAN
PRODID:-//Diputació de Barcelona//DibaCMS//EN
BEGIN:VEVENT
UID:2346
DTSTAMP:20260421T173504
DTSTART:20160926T000000
DTEND:20160926T000000
SUMMARY:SESSIÓ INFORMATIVA SOBRE LES PISTES DE PÀDEL
LOCATION:
METHOD:PUBLISH
X-WR-CALNAME:info.pont@elpont.cat
X-WR-TIMEZONE:Europe/Madrid
DESCRIPTION:Amb motiu de la posada en marxa de la nova pista de pàdel a la zona esportiva del Marquet Paradís, es realitzarà una reunió informativa per explicar el seu funcionament i totes aquelles activitats que es programaran
URI:https://www.elpont.cat/actualitat/agenda/sessio-informativa-sobre-les-pistes-de-padel.html
CLASS:PUBLIC
END:VEVENT
END:VCALENDAR
