BEGIN:VCALENDAR
VERSION:2.0
CALSCALE:GREGORIAN
PRODID:-//Diputació de Barcelona//DibaCMS//EN
BEGIN:VEVENT
UID:2347
DTSTAMP:20260421T232515
DTSTART:20160929T000000
DTEND:20161004T000000
SUMMARY:PROGRAMA D'EDUCACIÓ SANITÀRIA A LA GENT GRAN: HIPERTENSIÓ ARTERIAL
LOCATION:
METHOD:PUBLISH
X-WR-CALNAME:info.pont@elpont.cat
X-WR-TIMEZONE:Europe/Madrid
DESCRIPTION:
URI:https://www.elpont.cat/actualitat/agenda/programa-deducacio-sanitaria-a-la-gent-gran-hipertensio-arterial.html
CLASS:PUBLIC
END:VEVENT
END:VCALENDAR
