BEGIN:VCALENDAR
VERSION:2.0
CALSCALE:GREGORIAN
PRODID:-//Diputació de Barcelona//DibaCMS//EN
BEGIN:VEVENT
UID:2348
DTSTAMP:20260422T003220
DTSTART:20161001T000000
DTEND:20161001T000000
SUMMARY:TALLER DE CRAFT: RECEPTARI DE CUINA
LOCATION:
METHOD:PUBLISH
X-WR-CALNAME:info.pont@elpont.cat
X-WR-TIMEZONE:Europe/Madrid
DESCRIPTION:
URI:https://www.elpont.cat/actualitat/agenda/2348-taller-de-craft-receptari-de-cuina.html
CLASS:PUBLIC
END:VEVENT
END:VCALENDAR
